BEGIN:VCALENDAR
VERSION:2.0
PRODID:-//wp-events-plugin.com//7.2.3.1//EN
TZID:Europe/London
X-WR-TIMEZONE:Europe/London
BEGIN:VEVENT
UID:97@eastkentfreemasons.org
DTSTART:20260428T190000Z
DTEND:20260428T210000Z
DTSTAMP:20260225T090440Z
URL:https://eastkentfreemasons.org/events/presentation-of-the-royal-arch/
SUMMARY:Presentation of the Royal Arch
DESCRIPTION:
ATTACH;FMTTYPE=image/jpeg:https://eastkentfreemasons.org/wp-content/upload
 s/2026/02/Presentation-of-the-Royal-Arch-A4-Poster.jpg
CATEGORIES:Event,Masonic Event
END:VEVENT
END:VCALENDAR