BEGIN:VCALENDAR
VERSION:2.0
PRODID:-//wp-events-plugin.com//7.2.3.1//EN
TZID:Europe/London
X-WR-TIMEZONE:Europe/London
BEGIN:VEVENT
UID:106@eastkentfreemasons.org
DTSTART;TZID=Europe/London:20260430T183000
DTEND;TZID=Europe/London:20260430T203000
DTSTAMP:20260420T073107Z
URL:https://eastkentfreemasons.org/events/consultation-on-the-future-use-a
 nd-development-of-masonic-centres-in-east-kent/
SUMMARY:Consultation on the Future Use and Development of Masonic Centres i
 n East Kent
DESCRIPTION:Future Use and Development of Masonic Centres - Consultation\nT
 hursday 30 April 2026.\n6.30pm for Teas and Coffee\n7pm Consultation Forum
 \nMaidstone Masonic Centre\, Courtney Road\, Tovil\, Maidstone\, ME15 6LF\
 n\nAgenda\n\n6.30pm - Teas and Coffee\n\n7pm - Welcome and Introductions -
  V.W.Bro. Phil South\n\nStrategy for Freemasonry 2022 and Beyond - Masonic
  Halls and Meeting Places - Wayne Smith\n\nCase Studies - Masonic Centres 
 as viable assets\n\nMasonic Halls Advice and Guidance - James Reuther\n\nI
 nsurance and other considerations - Tony Eldridge\n\nQ &amp\; A session\n\
 nNext Steps and future guidance
ATTACH;FMTTYPE=image/jpeg:https://eastkentfreemasons.org/wp-content/upload
 s/2025/11/Maidstone-Masonic-Centre.jpg
CATEGORIES:Masonic Event
LOCATION:Maidstone Masonic Centre (Tovil)\, Courtney Road\, Maidstone\, Ken
 t\, ME15 6LF\, United Kingdom
GEO:51.262513;0.519444
X-APPLE-STRUCTURED-LOCATION;VALUE=URI;X-ADDRESS=Courtney Road\, Maidstone\,
  Kent\, ME15 6LF\, United Kingdom;X-APPLE-RADIUS=100;X-TITLE=Maidstone Mas
 onic Centre (Tovil):geo:51.262513,0.519444
END:VEVENT
BEGIN:VTIMEZONE
TZID:Europe/London
X-LIC-LOCATION:Europe/London
BEGIN:DAYLIGHT
DTSTART:20260329T020000
TZOFFSETFROM:+0000
TZOFFSETTO:+0100
TZNAME:BST
END:DAYLIGHT
END:VTIMEZONE
END:VCALENDAR